
BEGIN:VCALENDAR
VERSION:2.0
PRODID:-//Incid - ECPv4.6.19//NONSGML v1.0//EN
CALSCALE:GREGORIAN
METHOD:PUBLISH
X-WR-CALNAME:Incid
X-ORIGINAL-URL:https://incid.org.br
X-WR-CALDESC:Eventos para Incid
BEGIN:VEVENT
DTSTART;TZID=America/Sao_Paulo:20150916T180000
DTEND;TZID=America/Sao_Paulo:20150916T200000
DTSTAMP:20260424T105322
CREATED:20150914T170618Z
LAST-MODIFIED:20150914T170618Z
UID:1213-1442426400-1442433600@incid.org.br
SUMMARY:Encontro de Rede\, em Rio Bonito
DESCRIPTION:Nessa quarta-feira\, a Rede de Cidadania Ativa de Rio Bonito se reúne para definir os dinamizadores que participarão do próximo Encontro Regional\, que será realizado no final de Setembro. \nNa pauta\, também estão pontos como a discussão e pactuação dos textos da brochura e avaliação do Mapa participativo de Direito à Cultura. \n
URL:https://incid.org.br/evento/encontro-de-rede-em-rio-bonito/
LOCATION:Rua Martins de Almeida nº351 – Mangueirinha \, Rio Bonito\, Rio de Janeiro\, 28800000\, Brasil
ATTACH;FMTTYPE=image/jpeg:https://incid.org.br/site/wp-content/uploads/2015/09/redes-de-cidadia-ativa-v031.jpg
END:VEVENT
END:VCALENDAR