
BEGIN:VCALENDAR
VERSION:2.0
PRODID:-//Incid - ECPv4.6.19//NONSGML v1.0//EN
CALSCALE:GREGORIAN
METHOD:PUBLISH
X-WR-CALNAME:Incid
X-ORIGINAL-URL:https://incid.org.br
X-WR-CALDESC:Eventos para Incid
BEGIN:VEVENT
DTSTART;TZID=America/Sao_Paulo:20150912T180000
DTEND;TZID=America/Sao_Paulo:20150912T210000
DTSTAMP:20260424T105701
CREATED:20150910T222217Z
LAST-MODIFIED:20150910T222217Z
UID:1156-1442080800-1442091600@incid.org.br
SUMMARY:Festa da Roça\, em São Gonçalo
DESCRIPTION:A instituição Cidadão Ser Criança\, participante da Rede de Cidadania Ativa de São Gonçalo\, realizará a Festa da Roça no próximo sábado. Participe! \n
URL:https://incid.org.br/evento/festa-da-roca-em-sao-goncalo/
LOCATION:Rua Itacolomi\, Loteamento Novo\, Jardim Catarina\, São Gonçalo\, Rio de Janeiro\, Brasil
ATTACH;FMTTYPE=image/jpeg:https://incid.org.br/site/wp-content/uploads/2015/09/12009713_1069116013112689_6402018830350094425_n.jpg
END:VEVENT
END:VCALENDAR