
BEGIN:VCALENDAR
VERSION:2.0
PRODID:-//Incid - ECPv4.6.19//NONSGML v1.0//EN
CALSCALE:GREGORIAN
METHOD:PUBLISH
X-WR-CALNAME:Incid
X-ORIGINAL-URL:https://incid.org.br
X-WR-CALDESC:Eventos para Incid
BEGIN:VEVENT
DTSTART;TZID=America/Sao_Paulo:20150916T160000
DTEND;TZID=America/Sao_Paulo:20150916T170000
DTSTAMP:20260424T122736
CREATED:20150911T024927Z
LAST-MODIFIED:20150911T024927Z
UID:1204-1442419200-1442422800@incid.org.br
SUMMARY:Reunião da Rede de Maricá
DESCRIPTION:\nPauta: pactuação dos mapas (Participação e Educação); definição das dinamizadoras ou dinamizadores e definição da próxima reunião da Rede.\n\n  \n
URL:https://incid.org.br/evento/reuniao-da-rede-de-marica/
LOCATION:Maricá\, Rio de Janeiro\, Brasil
END:VEVENT
END:VCALENDAR